BEGIN:VCALENDAR
VERSION:2.0
PRODID:-//Spatial Realities Podcast - ECPv6.15.20//NONSGML v1.0//EN
CALSCALE:GREGORIAN
METHOD:PUBLISH
X-WR-CALNAME:Spatial Realities Podcast
X-ORIGINAL-URL:https://metaverse-podcast.de
X-WR-CALDESC:Veranstaltungen für Spatial Realities Podcast
REFRESH-INTERVAL;VALUE=DURATION:PT1H
X-Robots-Tag:noindex
X-PUBLISHED-TTL:PT1H
BEGIN:VTIMEZONE
TZID:Europe/Berlin
BEGIN:DAYLIGHT
TZOFFSETFROM:+0100
TZOFFSETTO:+0200
TZNAME:CEST
DTSTART:20230326T010000
END:DAYLIGHT
BEGIN:STANDARD
TZOFFSETFROM:+0200
TZOFFSETTO:+0100
TZNAME:CET
DTSTART:20231029T010000
END:STANDARD
BEGIN:DAYLIGHT
TZOFFSETFROM:+0100
TZOFFSETTO:+0200
TZNAME:CEST
DTSTART:20240331T010000
END:DAYLIGHT
BEGIN:STANDARD
TZOFFSETFROM:+0200
TZOFFSETTO:+0100
TZNAME:CET
DTSTART:20241027T010000
END:STANDARD
BEGIN:DAYLIGHT
TZOFFSETFROM:+0100
TZOFFSETTO:+0200
TZNAME:CEST
DTSTART:20250330T010000
END:DAYLIGHT
BEGIN:STANDARD
TZOFFSETFROM:+0200
TZOFFSETTO:+0100
TZNAME:CET
DTSTART:20251026T010000
END:STANDARD
END:VTIMEZONE
BEGIN:VEVENT
DTSTART;VALUE=DATE:20240403
DTEND;VALUE=DATE:20240405
DTSTAMP:20260419T181044
CREATED:20240305T115018Z
LAST-MODIFIED:20240305T115018Z
UID:1635-1712102400-1712275199@metaverse-podcast.de
SUMMARY:XR EXPO
DESCRIPTION:„The XR EXPO is the B2B exhibition fair for Virtual Reality (VR)\, Mixed Reality (MR) and Augmented Reality (AR)\, or in short: eXtended Reality (XR). The focus is on XR technologies and professional applications of VR\, MR and AR in industry\, architecture\, health\, trade and crafts. The XR EXPO is characterized by XR industry giants\, excellent speakers and showcases from practice. The XR EXPO has set itself the goal of being THE meeting point for industry users\, technology providers\, content service providers and XR researchers. Our get-togethers offer the perfect opportunity for networking.“
URL:https://metaverse-podcast.de/event/xr-expo/
LOCATION:Haus der Wirtschaft\, Willi-Bleicher-Straße 19\, Stuttgart\, 70174\, Deutschland
CATEGORIES:Exhibition
ORGANIZER;CN="Virtual Dimension Center Fellbach":MAILTO:events@vdc-fellbach.de
END:VEVENT
END:VCALENDAR