BEGIN:VCALENDAR
VERSION:2.0
PRODID:-//Spatial Realities Podcast - ECPv6.15.20//NONSGML v1.0//EN
CALSCALE:GREGORIAN
METHOD:PUBLISH
X-WR-CALNAME:Spatial Realities Podcast
X-ORIGINAL-URL:https://metaverse-podcast.de
X-WR-CALDESC:Veranstaltungen für Spatial Realities Podcast
REFRESH-INTERVAL;VALUE=DURATION:PT1H
X-Robots-Tag:noindex
X-PUBLISHED-TTL:PT1H
BEGIN:VTIMEZONE
TZID:Europe/Berlin
BEGIN:DAYLIGHT
TZOFFSETFROM:+0100
TZOFFSETTO:+0200
TZNAME:CEST
DTSTART:20230326T010000
END:DAYLIGHT
BEGIN:STANDARD
TZOFFSETFROM:+0200
TZOFFSETTO:+0100
TZNAME:CET
DTSTART:20231029T010000
END:STANDARD
BEGIN:DAYLIGHT
TZOFFSETFROM:+0100
TZOFFSETTO:+0200
TZNAME:CEST
DTSTART:20240331T010000
END:DAYLIGHT
BEGIN:STANDARD
TZOFFSETFROM:+0200
TZOFFSETTO:+0100
TZNAME:CET
DTSTART:20241027T010000
END:STANDARD
BEGIN:DAYLIGHT
TZOFFSETFROM:+0100
TZOFFSETTO:+0200
TZNAME:CEST
DTSTART:20250330T010000
END:DAYLIGHT
BEGIN:STANDARD
TZOFFSETFROM:+0200
TZOFFSETTO:+0100
TZNAME:CET
DTSTART:20251026T010000
END:STANDARD
END:VTIMEZONE
BEGIN:VEVENT
DTSTART;VALUE=DATE:20240604
DTEND;VALUE=DATE:20240607
DTSTAMP:20260422T161339
CREATED:20240305T141334Z
LAST-MODIFIED:20240305T141334Z
UID:1678-1717459200-1717718399@metaverse-podcast.de
SUMMARY:LearnTec
DESCRIPTION:„Hoch qualifizierte\, internationale Experten aus der Bildungswirtschaft und Wissenschaft diskutieren brandaktuelle Themen und stellen Lösungsvorschläge in praxisnahen Vorträgen vor. Durch die Verknüpfung von Messe und internationalem Kongress haben Sie die Möglichkeit sich mit internationalen Experten über Visionen der Bildung\, Lerntrends\, digitale Bildung und E-Learning austauschen.“ \nQuelle \nWarum erscheint dieses Event in diesem Kalender? Dieses Event hat einen dedizierten Bereich zum Thema XR\, der jährlich wächst.
URL:https://metaverse-podcast.de/event/learntec/
LOCATION:Messe Karlsruhe\, Messeallee 1\, Rheinstetten\, 76287\, Deutschland
CATEGORIES:Conference,Exhibition
END:VEVENT
END:VCALENDAR